BEGIN:VCALENDAR
VERSION:2.0
PRODID:-//Facultad de Ciencias Biológicas - ECPv4.9.13//NONSGML v1.0//EN
CALSCALE:GREGORIAN
METHOD:PUBLISH
X-WR-CALNAME:Facultad de Ciencias Biológicas
X-ORIGINAL-URL:https://biologia.uc.cl
X-WR-CALDESC:Eventos para Facultad de Ciencias Biológicas 
BEGIN:VTIMEZONE
TZID:America/Sao_Paulo
BEGIN:STANDARD
TZOFFSETFROM:-0300
TZOFFSETTO:-0300
TZNAME:-03
DTSTART:20230101T000000
END:STANDARD
END:VTIMEZONE
BEGIN:VEVENT
DTSTART;TZID=America/Sao_Paulo:20231218T123000
DTEND;TZID=America/Sao_Paulo:20231218T133000
DTSTAMP:20260422T085453
CREATED:20231213T143209Z
LAST-MODIFIED:20231213T143209Z
UID:20038-1702902600-1702906200@biologia.uc.cl
SUMMARY:Bone and Diabetes: regulation of bone health and glucose  metabolism by the hypoxia signaling pathway
DESCRIPTION:
URL:https://biologia.uc.cl/calendario/bone-and-diabetes-regulation-of-bone-health-and-glucose-metabolism-by-the-hypoxia-signaling-pathway/
LOCATION:Auditorio Abate Molina\, Auditorio Abate Molina
CATEGORIES:Calendario Portada
ATTACH;FMTTYPE=image/jpeg:https://biologia.uc.cl/wp-content/uploads/2023/12/Seminario_Phd_RogerValle.jpg
END:VEVENT
BEGIN:VEVENT
DTSTART;TZID=America/Sao_Paulo:20231218T130000
DTEND;TZID=America/Sao_Paulo:20231218T150000
DTSTAMP:20260422T085453
CREATED:20231215T181607Z
LAST-MODIFIED:20231215T181630Z
UID:20068-1702904400-1702911600@biologia.uc.cl
SUMMARY:Feria Navideña en la Facultad de Ciencias Biológicas
DESCRIPTION:
URL:https://biologia.uc.cl/calendario/feria-navidena-en-la-facultad-de-ciencias-biologicas/
LOCATION:Campus Casa Central\, Campus Casa Central
CATEGORIES:Calendario Portada
ATTACH;FMTTYPE=image/jpeg:https://biologia.uc.cl/wp-content/uploads/2023/12/WhatsApp-Image-2023-12-15-at-12.37.17-1.jpeg
END:VEVENT
END:VCALENDAR