BEGIN:VCALENDAR
VERSION:2.0
PRODID:-//Facultad de Ciencias Biológicas - ECPv4.9.13//NONSGML v1.0//EN
CALSCALE:GREGORIAN
METHOD:PUBLISH
X-WR-CALNAME:Facultad de Ciencias Biológicas
X-ORIGINAL-URL:https://biologia.uc.cl
X-WR-CALDESC:Eventos para Facultad de Ciencias Biológicas 
BEGIN:VTIMEZONE
TZID:America/Sao_Paulo
BEGIN:STANDARD
TZOFFSETFROM:-0300
TZOFFSETTO:-0300
TZNAME:-03
DTSTART:20250101T000000
END:STANDARD
END:VTIMEZONE
BEGIN:VEVENT
DTSTART;TZID=America/Sao_Paulo:20251002T130000
DTEND;TZID=America/Sao_Paulo:20251028T180000
DTSTAMP:20260419T191332
CREATED:20251002T164435Z
LAST-MODIFIED:20251002T164435Z
UID:29339-1759410000-1761674400@biologia.uc.cl
SUMMARY:Mes de aniversario de la Facultad de Ciencias Biológicas UC
DESCRIPTION:
URL:https://biologia.uc.cl/calendario/mes-de-aniversario-de-la-facultad-de-ciencias-biologicas-uc/
LOCATION:Campus Casa Central\, Campus Casa Central
CATEGORIES:Calendario Portada
ATTACH;FMTTYPE=image/jpeg:https://biologia.uc.cl/wp-content/uploads/2025/10/Portada_RRSS.jpg
END:VEVENT
BEGIN:VEVENT
DTSTART;TZID=America/Sao_Paulo:20251020T090000
DTEND;TZID=America/Sao_Paulo:20251030T173000
DTSTAMP:20260419T191332
CREATED:20251014T193227Z
LAST-MODIFIED:20251014T193227Z
UID:29554-1760950800-1761845400@biologia.uc.cl
SUMMARY:Exposición “Chile. Voces de la Patagonia. Secretos del fondo marino”
DESCRIPTION:
URL:https://biologia.uc.cl/calendario/exposicion-chile-voces-de-la-patagonia-secretos-del-fondo-marino/
LOCATION:Campus Casa Central\, Campus Casa Central
CATEGORIES:Calendario Portada
ATTACH;FMTTYPE=image/png:https://biologia.uc.cl/wp-content/uploads/2025/10/Graìfica_Sorensen_UC.png
END:VEVENT
BEGIN:VEVENT
DTSTART;TZID=America/Sao_Paulo:20251021T133000
DTEND;TZID=America/Sao_Paulo:20251021T153000
DTSTAMP:20260419T191332
CREATED:20251013T130813Z
LAST-MODIFIED:20251013T130916Z
UID:29470-1761053400-1761060600@biologia.uc.cl
SUMMARY:Feria laboral Conecta FCB
DESCRIPTION:
URL:https://biologia.uc.cl/calendario/feria-laboral-conecta-fcb/
LOCATION:Patio de Ciencias Biológicas\, Patio de Ciencias Biológicas
CATEGORIES:Calendario Portada
ATTACH;FMTTYPE=image/jpeg:https://biologia.uc.cl/wp-content/uploads/2025/10/Ferialaboral_ConectaFCB.jpg
END:VEVENT
BEGIN:VEVENT
DTSTART;TZID=America/Sao_Paulo:20251021T160000
DTEND;TZID=America/Sao_Paulo:20251021T190000
DTSTAMP:20260419T191332
CREATED:20251013T131059Z
LAST-MODIFIED:20251013T131059Z
UID:29473-1761062400-1761073200@biologia.uc.cl
SUMMARY:Conecta Alumni FCB
DESCRIPTION:
URL:https://biologia.uc.cl/calendario/conecta-alumni-fcb/
LOCATION:Centro de Extensión\, Centro de Extensión
CATEGORIES:Calendario Portada
ATTACH;FMTTYPE=image/jpeg:https://biologia.uc.cl/wp-content/uploads/2025/10/BannerFormulario.jpg
END:VEVENT
END:VCALENDAR