BEGIN:VCALENDAR
VERSION:2.0
PRODID:-//Facultad de Ciencias Biológicas - ECPv4.9.13//NONSGML v1.0//EN
CALSCALE:GREGORIAN
METHOD:PUBLISH
X-WR-CALNAME:Facultad de Ciencias Biológicas
X-ORIGINAL-URL:https://biologia.uc.cl
X-WR-CALDESC:Eventos para Facultad de Ciencias Biológicas 
BEGIN:VTIMEZONE
TZID:America/Sao_Paulo
BEGIN:STANDARD
TZOFFSETFROM:-0300
TZOFFSETTO:-0300
TZNAME:-03
DTSTART:20220101T000000
END:STANDARD
END:VTIMEZONE
BEGIN:VEVENT
DTSTART;VALUE=DATE:20220505
DTEND;VALUE=DATE:20220521
DTSTAMP:20260421T094819
CREATED:20220506T165430Z
LAST-MODIFIED:20220506T165430Z
UID:14514-1651708800-1653091199@biologia.uc.cl
SUMMARY:Al Sumergirse
DESCRIPTION:
URL:https://biologia.uc.cl/calendario/al-sumergirse-2/
LOCATION:Hall de Pregrado\, Hall de Pregrado
CATEGORIES:Calendario Portada
ATTACH;FMTTYPE=image/jpeg:https://biologia.uc.cl/wp-content/uploads/2022/05/Expo_AlSumergirse-scaled.jpg
END:VEVENT
END:VCALENDAR