BEGIN:VCALENDAR
VERSION:2.0
PRODID:-//Facultad de Ciencias Biológicas - ECPv4.9.13//NONSGML v1.0//EN
CALSCALE:GREGORIAN
METHOD:PUBLISH
X-WR-CALNAME:Facultad de Ciencias Biológicas
X-ORIGINAL-URL:https://biologia.uc.cl
X-WR-CALDESC:Eventos para Facultad de Ciencias Biológicas 
BEGIN:VTIMEZONE
TZID:America/Sao_Paulo
BEGIN:STANDARD
TZOFFSETFROM:-0300
TZOFFSETTO:-0300
TZNAME:-03
DTSTART:20220101T000000
END:STANDARD
END:VTIMEZONE
BEGIN:VEVENT
DTSTART;TZID=America/Sao_Paulo:20220127T190000
DTEND;TZID=America/Sao_Paulo:20220127T210000
DTSTAMP:20260420T215508
CREATED:20220126T151233Z
LAST-MODIFIED:20220126T151338Z
UID:13694-1643310000-1643317200@biologia.uc.cl
SUMMARY:Al sumergirse
DESCRIPTION:
URL:https://biologia.uc.cl/calendario/al-sumergirse/
LOCATION:Zócalo\, Zócalo
CATEGORIES:Calendario Portada
ATTACH;FMTTYPE=image/jpeg:https://biologia.uc.cl/wp-content/uploads/2022/01/272761887_633641264622775_283408153831388332_n.jpg
END:VEVENT
END:VCALENDAR