BEGIN:VCALENDAR
VERSION:2.0
PRODID:-//Facultad de Ciencias Biológicas - ECPv4.9.13//NONSGML v1.0//EN
CALSCALE:GREGORIAN
METHOD:PUBLISH
X-WR-CALNAME:Facultad de Ciencias Biológicas
X-ORIGINAL-URL:https://biologia.uc.cl
X-WR-CALDESC:Eventos para Facultad de Ciencias Biológicas 
BEGIN:VTIMEZONE
TZID:America/Sao_Paulo
BEGIN:STANDARD
TZOFFSETFROM:-0300
TZOFFSETTO:-0300
TZNAME:-03
DTSTART:20220101T000000
END:STANDARD
END:VTIMEZONE
BEGIN:VEVENT
DTSTART;TZID=America/Sao_Paulo:20221019T110000
DTEND;TZID=America/Sao_Paulo:20221019T120000
DTSTAMP:20260423T005839
CREATED:20221019T131025Z
LAST-MODIFIED:20221019T131728Z
UID:15993-1666177200-1666180800@biologia.uc.cl
SUMMARY:El poder de la biología de alta dimensión
DESCRIPTION:
URL:https://biologia.uc.cl/calendario/el-poder-de-la-biologia-de-alta-dimension/
LOCATION:Auditorio Abate Molina\, Auditorio Abate Molina
CATEGORIES:Calendario Portada
ATTACH;FMTTYPE=image/jpeg:https://biologia.uc.cl/wp-content/uploads/2022/10/WhatsApp-Image-2022-10-19-at-10.07.10.jpeg
END:VEVENT
END:VCALENDAR