BEGIN:VCALENDAR
VERSION:2.0
PRODID:-//Facultad de Ciencias Biológicas - ECPv4.9.13//NONSGML v1.0//EN
CALSCALE:GREGORIAN
METHOD:PUBLISH
X-WR-CALNAME:Facultad de Ciencias Biológicas
X-ORIGINAL-URL:https://biologia.uc.cl
X-WR-CALDESC:Eventos para Facultad de Ciencias Biológicas 
BEGIN:VTIMEZONE
TZID:America/Sao_Paulo
BEGIN:STANDARD
TZOFFSETFROM:-0300
TZOFFSETTO:-0300
TZNAME:-03
DTSTART:20220101T000000
END:STANDARD
END:VTIMEZONE
BEGIN:VEVENT
DTSTART;TZID=America/Sao_Paulo:20221118T100000
DTEND;TZID=America/Sao_Paulo:20221118T123000
DTSTAMP:20260422T135923
CREATED:20221111T172425Z
LAST-MODIFIED:20221111T172443Z
UID:16201-1668765600-1668774600@biologia.uc.cl
SUMMARY:PAGES: Coordinating paleoscience research for a sustainable future
DESCRIPTION:
URL:https://biologia.uc.cl/calendario/coordinating-paleoscience-research-for-a-sustainable-future/
LOCATION:Campus Casa Central\, Campus Casa Central
CATEGORIES:Calendario Portada
ATTACH;FMTTYPE=image/jpeg:https://biologia.uc.cl/wp-content/uploads/2022/11/PAGES_Nov2022-1-1.jpg
END:VEVENT
END:VCALENDAR