BEGIN:VCALENDAR
VERSION:2.0
PRODID:-//Facultad de Ciencias Biológicas - ECPv4.9.13//NONSGML v1.0//EN
CALSCALE:GREGORIAN
METHOD:PUBLISH
X-WR-CALNAME:Facultad de Ciencias Biológicas
X-ORIGINAL-URL:https://biologia.uc.cl
X-WR-CALDESC:Eventos para Facultad de Ciencias Biológicas 
BEGIN:VTIMEZONE
TZID:America/Sao_Paulo
BEGIN:STANDARD
TZOFFSETFROM:-0300
TZOFFSETTO:-0300
TZNAME:-03
DTSTART:20230101T000000
END:STANDARD
END:VTIMEZONE
BEGIN:VEVENT
DTSTART;TZID=America/Sao_Paulo:20230125T110000
DTEND;TZID=America/Sao_Paulo:20230126T150000
DTSTAMP:20260422T033625
CREATED:20230124T124243Z
LAST-MODIFIED:20230124T124243Z
UID:16920-1674644400-1674745200@biologia.uc.cl
SUMMARY:VeterinArte
DESCRIPTION:
URL:https://biologia.uc.cl/calendario/veterinarte/
LOCATION:Campus San Joaquín\, Campus San Joaquín
CATEGORIES:Calendario Portada
ATTACH;FMTTYPE=image/jpeg:https://biologia.uc.cl/wp-content/uploads/2023/01/326590448_919638109039012_1752341741461135548_n.jpg
END:VEVENT
BEGIN:VEVENT
DTSTART;TZID=America/Sao_Paulo:20230125T130000
DTEND;TZID=America/Sao_Paulo:20230125T143000
DTSTAMP:20260422T033625
CREATED:20230112T141010Z
LAST-MODIFIED:20230112T141010Z
UID:16749-1674651600-1674657000@biologia.uc.cl
SUMMARY:Cytokine-microbiota crosstalk modulates enteric nervous system development and function in zebrafish
DESCRIPTION:
URL:https://biologia.uc.cl/calendario/cytokine-microbiota-crosstalk-modulates-enteric-nervous-system-development-and-function-in-zebrafish/
LOCATION:Auditorio Abate Molina\, Auditorio Abate Molina
CATEGORIES:Calendario Portada
ATTACH;FMTTYPE=image/jpeg:https://biologia.uc.cl/wp-content/uploads/2023/01/7thSummerSchoolCellMecha-1-scaled.jpeg
END:VEVENT
END:VCALENDAR