BEGIN:VCALENDAR
VERSION:2.0
PRODID:-//Facultad de Ciencias Biológicas - ECPv4.9.13//NONSGML v1.0//EN
CALSCALE:GREGORIAN
METHOD:PUBLISH
X-WR-CALNAME:Facultad de Ciencias Biológicas
X-ORIGINAL-URL:https://biologia.uc.cl
X-WR-CALDESC:Eventos para Facultad de Ciencias Biológicas 
BEGIN:VTIMEZONE
TZID:America/Sao_Paulo
BEGIN:STANDARD
TZOFFSETFROM:-0300
TZOFFSETTO:-0300
TZNAME:-03
DTSTART:20230101T000000
END:STANDARD
END:VTIMEZONE
BEGIN:VEVENT
DTSTART;TZID=America/Sao_Paulo:20230303T100000
DTEND;TZID=America/Sao_Paulo:20230303T110000
DTSTAMP:20260422T001737
CREATED:20230127T150734Z
LAST-MODIFIED:20230301T120010Z
UID:16960-1677837600-1677841200@biologia.uc.cl
SUMMARY:Taller: ¿qué significa ser Novato o Novata UC?
DESCRIPTION:
URL:https://biologia.uc.cl/calendario/taller-que-significa-ser-notavo-o-novata-uc/
LOCATION:Campus Casa Central\, Campus Casa Central
CATEGORIES:Calendario Portada
ATTACH;FMTTYPE=image/jpeg:https://biologia.uc.cl/wp-content/uploads/2023/01/Taller-¿Qué-significa-ser-novatoa-UC-1.jpg
END:VEVENT
BEGIN:VEVENT
DTSTART;TZID=America/Sao_Paulo:20230303T120000
DTEND;TZID=America/Sao_Paulo:20230303T140000
DTSTAMP:20260422T001737
CREATED:20230130T125008Z
LAST-MODIFIED:20230131T141645Z
UID:16969-1677844800-1677852000@biologia.uc.cl
SUMMARY:Bienvenida Novata FCB
DESCRIPTION:
URL:https://biologia.uc.cl/calendario/bienvenida-novata-fcb-3/
LOCATION:Campus San Joaquín\, Campus San Joaquín
CATEGORIES:Calendario Portada
ATTACH;FMTTYPE=image/jpeg:https://biologia.uc.cl/wp-content/uploads/2023/01/5-1.jpg
END:VEVENT
END:VCALENDAR