BEGIN:VCALENDAR
VERSION:2.0
PRODID:-//Facultad de Ciencias Biológicas - ECPv4.9.13//NONSGML v1.0//EN
CALSCALE:GREGORIAN
METHOD:PUBLISH
X-WR-CALNAME:Facultad de Ciencias Biológicas
X-ORIGINAL-URL:https://biologia.uc.cl
X-WR-CALDESC:Eventos para Facultad de Ciencias Biológicas 
BEGIN:VTIMEZONE
TZID:America/Sao_Paulo
BEGIN:STANDARD
TZOFFSETFROM:-0300
TZOFFSETTO:-0300
TZNAME:-03
DTSTART:20230101T000000
END:STANDARD
END:VTIMEZONE
BEGIN:VEVENT
DTSTART;VALUE=DATE:20230322
DTEND;VALUE=DATE:20230420
DTSTAMP:20260422T002011
CREATED:20230314T154711Z
LAST-MODIFIED:20230314T154711Z
UID:17287-1679443200-1681948799@biologia.uc.cl
SUMMARY:Exposición Filiación Estructural en Galería Macchina
DESCRIPTION:
URL:https://biologia.uc.cl/calendario/exposicion-filiacion-estructural-en-galeria-macchina/
LOCATION:Campus Oriente\, Avda\, Jaime Guzmán Errázuriz 3300
CATEGORIES:Calendario Portada
ATTACH;FMTTYPE=image/jpeg:https://biologia.uc.cl/wp-content/uploads/2023/03/2023-Filiación-Estructural_A.jpg
END:VEVENT
BEGIN:VEVENT
DTSTART;VALUE=DATE:20230322
DTEND;VALUE=DATE:20230420
DTSTAMP:20260422T002011
CREATED:20230314T154820Z
LAST-MODIFIED:20230314T154820Z
UID:17291-1679443200-1681948799@biologia.uc.cl
SUMMARY:Exposición La Giganta en Galería Macchina
DESCRIPTION:
URL:https://biologia.uc.cl/calendario/exposicion-la-giganta-en-galeria-macchina/
LOCATION:Campus Oriente\, Avda\, Jaime Guzmán Errázuriz 3300
CATEGORIES:Calendario Portada
ATTACH;FMTTYPE=image/jpeg:https://biologia.uc.cl/wp-content/uploads/2023/03/2023-La-Giganta_A.jpg
END:VEVENT
BEGIN:VEVENT
DTSTART;TZID=America/Sao_Paulo:20230414T123000
DTEND;TZID=America/Sao_Paulo:20230414T133000
DTSTAMP:20260422T002011
CREATED:20230411T150906Z
LAST-MODIFIED:20230411T150906Z
UID:17601-1681475400-1681479000@biologia.uc.cl
SUMMARY:Determinantes de ingesta de alimentos: Desde ratones a humanos
DESCRIPTION:
URL:https://biologia.uc.cl/calendario/determinantes-de-ingesta-de-alimentos-desde-ratones-a-humanos/
LOCATION:Sala B102\, Sala B102
CATEGORIES:Calendario Portada
ATTACH;FMTTYPE=image/jpeg:https://biologia.uc.cl/wp-content/uploads/2023/04/Seminario_DrClaudioPérez.jpg
END:VEVENT
END:VCALENDAR