BEGIN:VCALENDAR
VERSION:2.0
PRODID:-//Facultad de Ciencias Biológicas - ECPv4.9.13//NONSGML v1.0//EN
CALSCALE:GREGORIAN
METHOD:PUBLISH
X-WR-CALNAME:Facultad de Ciencias Biológicas
X-ORIGINAL-URL:https://biologia.uc.cl
X-WR-CALDESC:Eventos para Facultad de Ciencias Biológicas 
BEGIN:VTIMEZONE
TZID:America/Sao_Paulo
BEGIN:STANDARD
TZOFFSETFROM:-0300
TZOFFSETTO:-0300
TZNAME:-03
DTSTART:20230101T000000
END:STANDARD
END:VTIMEZONE
BEGIN:VEVENT
DTSTART;VALUE=DATE:20230719
DTEND;VALUE=DATE:20230722
DTSTAMP:20260421T133049
CREATED:20230711T140345Z
LAST-MODIFIED:20230711T140345Z
UID:18604-1689724800-1689983999@biologia.uc.cl
SUMMARY:Open House Virtual
DESCRIPTION:
URL:https://biologia.uc.cl/calendario/open-house-virtual/
LOCATION:Online\, Online
CATEGORIES:Calendario Portada
ATTACH;FMTTYPE=image/png:https://biologia.uc.cl/wp-content/uploads/2023/07/Posteo-OPEN-HOUSE-Doctorados-2024-1.png
END:VEVENT
BEGIN:VEVENT
DTSTART;TZID=America/Sao_Paulo:20230721T123000
DTEND;TZID=America/Sao_Paulo:20230721T133000
DTSTAMP:20260421T133049
CREATED:20230717T180757Z
LAST-MODIFIED:20230717T180757Z
UID:18672-1689942600-1689946200@biologia.uc.cl
SUMMARY:Mechanical and structural characterization of parenchymal tissue in emphysematous lungs
DESCRIPTION:
URL:https://biologia.uc.cl/calendario/mechanical-and-structural-characterization-of-parenchymal-tissue-in-emphysematous-lungs/
LOCATION:Auditorio Abate Molina\, Auditorio Abate Molina
CATEGORIES:Calendario Portada
ATTACH;FMTTYPE=image/jpeg:https://biologia.uc.cl/wp-content/uploads/2023/07/Seminario_DrDanielHurtado.jpg
END:VEVENT
END:VCALENDAR