BEGIN:VCALENDAR
VERSION:2.0
PRODID:-//Facultad de Ciencias Biológicas - ECPv4.9.13//NONSGML v1.0//EN
CALSCALE:GREGORIAN
METHOD:PUBLISH
X-WR-CALNAME:Facultad de Ciencias Biológicas
X-ORIGINAL-URL:https://biologia.uc.cl
X-WR-CALDESC:Eventos para Facultad de Ciencias Biológicas 
BEGIN:VTIMEZONE
TZID:America/Sao_Paulo
BEGIN:STANDARD
TZOFFSETFROM:-0300
TZOFFSETTO:-0300
TZNAME:-03
DTSTART:20230101T000000
END:STANDARD
END:VTIMEZONE
BEGIN:VEVENT
DTSTART;VALUE=DATE:20230803
DTEND;VALUE=DATE:20230805
DTSTAMP:20260421T075055
CREATED:20230714T124722Z
LAST-MODIFIED:20230714T124722Z
UID:18655-1691020800-1691193599@biologia.uc.cl
SUMMARY:Neuroendocrine integration of apetite and metabolism
DESCRIPTION:
URL:https://biologia.uc.cl/calendario/neuroendocrine-integration-of-apetite-and-metabolism/
LOCATION:Auditorio Abate Molina\, Auditorio Abate Molina
CATEGORIES:Calendario Portada
ATTACH;FMTTYPE=image/png:https://biologia.uc.cl/wp-content/uploads/2023/07/image001.png
END:VEVENT
BEGIN:VEVENT
DTSTART;TZID=America/Sao_Paulo:20230803T090000
DTEND;TZID=America/Sao_Paulo:20230804T163000
DTSTAMP:20260421T075055
CREATED:20230718T163751Z
LAST-MODIFIED:20230718T163751Z
UID:18684-1691053200-1691166600@biologia.uc.cl
SUMMARY:Neuroendocrine Integration of Apetite and Metabolism
DESCRIPTION:
URL:https://biologia.uc.cl/calendario/neuroendocrine-integration-of-apetite-and-metabolism-2/
LOCATION:Auditorio Abate Molina\, Auditorio Abate Molina
CATEGORIES:Calendario Portada
ATTACH;FMTTYPE=image/png:https://biologia.uc.cl/wp-content/uploads/2023/07/image001-1.png
END:VEVENT
BEGIN:VEVENT
DTSTART;TZID=America/Sao_Paulo:20230804T123000
DTEND;TZID=America/Sao_Paulo:20230804T133000
DTSTAMP:20260421T075055
CREATED:20230801T174506Z
LAST-MODIFIED:20230801T174506Z
UID:18813-1691152200-1691155800@biologia.uc.cl
SUMMARY:Use of a high-parameter human NK and T cell spectral flow cytometry panel for an in-depth investigation of immune cell variability across healthy donors
DESCRIPTION:
URL:https://biologia.uc.cl/calendario/use-of-a-high-parameter-human-nk-and-t-cell-spectral-flow-cytometry-panel-for-an-in-depth-investigation-of-immune-cell-variability-across-healthy-donors/
LOCATION:Sala B101\, Sala B101
CATEGORIES:Calendario Portada
ATTACH;FMTTYPE=image/jpeg:https://biologia.uc.cl/wp-content/uploads/2023/08/Seminario_DrBobBalderas.jpg
END:VEVENT
END:VCALENDAR