BEGIN:VCALENDAR
VERSION:2.0
PRODID:-//Facultad de Ciencias Biológicas - ECPv4.9.13//NONSGML v1.0//EN
CALSCALE:GREGORIAN
METHOD:PUBLISH
X-WR-CALNAME:Facultad de Ciencias Biológicas
X-ORIGINAL-URL:https://biologia.uc.cl
X-WR-CALDESC:Eventos para Facultad de Ciencias Biológicas 
BEGIN:VTIMEZONE
TZID:America/Sao_Paulo
BEGIN:STANDARD
TZOFFSETFROM:-0300
TZOFFSETTO:-0300
TZNAME:-03
DTSTART:20230101T000000
END:STANDARD
END:VTIMEZONE
BEGIN:VEVENT
DTSTART;TZID=America/Sao_Paulo:20230905T080000
DTEND;TZID=America/Sao_Paulo:20230924T170000
DTSTAMP:20260421T093417
CREATED:20230905T190237Z
LAST-MODIFIED:20230905T190237Z
UID:19072-1693900800-1695574800@biologia.uc.cl
SUMMARY:The Bridge y Ciencia 2030 UC
DESCRIPTION:
URL:https://biologia.uc.cl/calendario/the-bridge-y-ciencia-2030-uc/
LOCATION:Online\, Online
CATEGORIES:Calendario Portada
ATTACH;FMTTYPE=image/png:https://biologia.uc.cl/wp-content/uploads/2023/09/the-bridge.png
END:VEVENT
BEGIN:VEVENT
DTSTART;TZID=America/Sao_Paulo:20230905T183000
DTEND;TZID=America/Sao_Paulo:20230905T193000
DTSTAMP:20260421T093417
CREATED:20230830T174135Z
LAST-MODIFIED:20230830T174135Z
UID:19027-1693938600-1693942200@biologia.uc.cl
SUMMARY:Muestra fotográfica "Mujeres navegantes y de orilla"
DESCRIPTION:
URL:https://biologia.uc.cl/calendario/muestra-fotografica-mujeres-navegantes-y-de-orilla/
LOCATION:Centro de Extensión\, Centro de Extensión
CATEGORIES:Calendario Portada
ATTACH;FMTTYPE=image/jpeg:https://biologia.uc.cl/wp-content/uploads/2023/08/unnamed-10.jpg
END:VEVENT
END:VCALENDAR