BEGIN:VCALENDAR
VERSION:2.0
PRODID:-//Facultad de Ciencias Biológicas - ECPv4.9.13//NONSGML v1.0//EN
CALSCALE:GREGORIAN
METHOD:PUBLISH
X-WR-CALNAME:Facultad de Ciencias Biológicas
X-ORIGINAL-URL:https://biologia.uc.cl
X-WR-CALDESC:Eventos para Facultad de Ciencias Biológicas 
BEGIN:VTIMEZONE
TZID:America/Sao_Paulo
BEGIN:STANDARD
TZOFFSETFROM:-0300
TZOFFSETTO:-0300
TZNAME:-03
DTSTART:20230101T000000
END:STANDARD
END:VTIMEZONE
BEGIN:VEVENT
DTSTART;TZID=America/Sao_Paulo:20231124T123000
DTEND;TZID=America/Sao_Paulo:20231124T133000
DTSTAMP:20260420T051006
CREATED:20231121T170127Z
LAST-MODIFIED:20231121T170127Z
UID:19828-1700829000-1700832600@biologia.uc.cl
SUMMARY:Quimioresistencia a cisplatino en cáncer de ovario: Desbalance entre la secreción de exosomas y la función lisosomal
DESCRIPTION:
URL:https://biologia.uc.cl/calendario/quimioresistencia-a-cisplatino-en-cancer-de-ovario-desbalance-entre-la-secrecion-de-exosomas-y-la-funcion-lisosomal/
LOCATION:Auditorio Abate Molina\, Auditorio Abate Molina
CATEGORIES:Calendario Portada
ATTACH;FMTTYPE=image/jpeg:https://biologia.uc.cl/wp-content/uploads/2023/11/Seminario_Dr.-ManuelVaras.jpg
END:VEVENT
END:VCALENDAR