BEGIN:VCALENDAR
VERSION:2.0
PRODID:-//Facultad de Ciencias Biológicas - ECPv4.9.13//NONSGML v1.0//EN
CALSCALE:GREGORIAN
METHOD:PUBLISH
X-WR-CALNAME:Facultad de Ciencias Biológicas
X-ORIGINAL-URL:https://biologia.uc.cl
X-WR-CALDESC:Eventos para Facultad de Ciencias Biológicas 
BEGIN:VTIMEZONE
TZID:America/Sao_Paulo
BEGIN:STANDARD
TZOFFSETFROM:-0300
TZOFFSETTO:-0300
TZNAME:-03
DTSTART:20220101T000000
END:STANDARD
END:VTIMEZONE
BEGIN:VEVENT
DTSTART;TZID=America/Sao_Paulo:20220113T090000
DTEND;TZID=America/Sao_Paulo:20220113T100000
DTSTAMP:20260420T134951
CREATED:20220106T154347Z
LAST-MODIFIED:20220106T154452Z
UID:13312-1642064400-1642068000@biologia.uc.cl
SUMMARY:Clausura Coloquios de Biología Vegetal 2021
DESCRIPTION:Tenemos el agrado de invitarlos a la Clausura de los Coloquios de Biología Vegetal\, organizado por la Sociedad Chilena de Biología Vegetal\, que se realizará entre los días 12 y 14 de enero del 2022 vía Zoom. \nA continuación se adjunta link para su registro: \nhttps://uchile.zoom.us/meeting/register/tZ0sdO-hrT8iEtKe-BgDiG5B471lQZOeFrxh \n
URL:https://biologia.uc.cl/calendario/clausura-coloquios-de-biologia-vegetal-2021/
LOCATION:Online\, Online
CATEGORIES:Calendario Portada
ATTACH;FMTTYPE=image/jpeg:https://biologia.uc.cl/wp-content/uploads/2022/01/Plenaria-dia2-Loreto-Holuigue@2x.jpg
END:VEVENT
END:VCALENDAR