BEGIN:VCALENDAR
VERSION:2.0
PRODID:-//Facultad de Ciencias Biológicas - ECPv4.9.13//NONSGML v1.0//EN
CALSCALE:GREGORIAN
METHOD:PUBLISH
X-WR-CALNAME:Facultad de Ciencias Biológicas
X-ORIGINAL-URL:https://biologia.uc.cl
X-WR-CALDESC:Eventos para Facultad de Ciencias Biológicas 
BEGIN:VTIMEZONE
TZID:America/Sao_Paulo
BEGIN:STANDARD
TZOFFSETFROM:-0300
TZOFFSETTO:-0300
TZNAME:-03
DTSTART:20220101T000000
END:STANDARD
END:VTIMEZONE
BEGIN:VEVENT
DTSTART;TZID=America/Sao_Paulo:20220704T080000
DTEND;TZID=America/Sao_Paulo:20220819T170000
DTSTAMP:20260420T152401
CREATED:20220704T204337Z
LAST-MODIFIED:20220725T142126Z
UID:15000-1656921600-1660928400@biologia.uc.cl
SUMMARY:Concurso Acelerador de Resultados de Investigación
DESCRIPTION:
URL:https://biologia.uc.cl/calendario/concurso-acelerador-de-resultados-de-investigacion/
LOCATION:Online\, Online
CATEGORIES:Calendario Portada
ATTACH;FMTTYPE=image/png:https://biologia.uc.cl/wp-content/uploads/2022/07/1er-concurso-acelerador-940x788-1.png
END:VEVENT
END:VCALENDAR