BEGIN:VCALENDAR
VERSION:2.0
PRODID:-//Facultad de Ciencias Biológicas - ECPv4.9.13//NONSGML v1.0//EN
CALSCALE:GREGORIAN
METHOD:PUBLISH
X-WR-CALNAME:Facultad de Ciencias Biológicas
X-ORIGINAL-URL:https://biologia.uc.cl
X-WR-CALDESC:Eventos para Facultad de Ciencias Biológicas 
BEGIN:VTIMEZONE
TZID:America/Sao_Paulo
BEGIN:STANDARD
TZOFFSETFROM:-0300
TZOFFSETTO:-0300
TZNAME:-03
DTSTART:20220101T000000
END:STANDARD
END:VTIMEZONE
BEGIN:VEVENT
DTSTART;TZID=America/Sao_Paulo:20220321T210000
DTEND;TZID=America/Sao_Paulo:20220321T220000
DTSTAMP:20260421T054227
CREATED:20220318T145953Z
LAST-MODIFIED:20220318T150130Z
UID:14003-1647896400-1647900000@biologia.uc.cl
SUMMARY:Día Mundial del Síndrome de Down
DESCRIPTION:
URL:https://biologia.uc.cl/calendario/dia-mundial-del-sindrome-de-down/
LOCATION:Frontis Casa Central\, Frontis Casa Central
CATEGORIES:Calendario Portada
ATTACH;FMTTYPE=image/jpeg:https://biologia.uc.cl/wp-content/uploads/2022/03/5f71e612-c80c-44bf-bf17-b97615c05e73.jpeg
END:VEVENT
END:VCALENDAR