BEGIN:VCALENDAR
VERSION:2.0
PRODID:-//Facultad de Ciencias Biológicas - ECPv4.9.13//NONSGML v1.0//EN
CALSCALE:GREGORIAN
METHOD:PUBLISH
X-WR-CALNAME:Facultad de Ciencias Biológicas
X-ORIGINAL-URL:https://biologia.uc.cl
X-WR-CALDESC:Eventos para Facultad de Ciencias Biológicas 
BEGIN:VTIMEZONE
TZID:America/Sao_Paulo
BEGIN:STANDARD
TZOFFSETFROM:-0300
TZOFFSETTO:-0300
TZNAME:-03
DTSTART:20220101T000000
END:STANDARD
END:VTIMEZONE
BEGIN:VEVENT
DTSTART;VALUE=DATE:20221107
DTEND;VALUE=DATE:20221108
DTSTAMP:20260420T073017
CREATED:20221104T123331Z
LAST-MODIFIED:20221104T123414Z
UID:16141-1667779200-1667865599@biologia.uc.cl
SUMMARY:e-World Marketing Summit
DESCRIPTION:
URL:https://biologia.uc.cl/calendario/e-world-marketing-summit/
LOCATION:Online\, Online
CATEGORIES:Calendario Portada
ATTACH;FMTTYPE=image/png:https://biologia.uc.cl/wp-content/uploads/2022/11/feed1.png
END:VEVENT
END:VCALENDAR