BEGIN:VCALENDAR
VERSION:2.0
PRODID:-//Facultad de Ciencias Biológicas - ECPv4.9.13//NONSGML v1.0//EN
CALSCALE:GREGORIAN
METHOD:PUBLISH
X-WR-CALNAME:Facultad de Ciencias Biológicas
X-ORIGINAL-URL:https://biologia.uc.cl
X-WR-CALDESC:Eventos para Facultad de Ciencias Biológicas 
BEGIN:VTIMEZONE
TZID:America/Sao_Paulo
BEGIN:STANDARD
TZOFFSETFROM:-0300
TZOFFSETTO:-0300
TZNAME:-03
DTSTART:20220101T000000
END:STANDARD
END:VTIMEZONE
BEGIN:VEVENT
DTSTART;TZID=America/Sao_Paulo:20221006T120000
DTEND;TZID=America/Sao_Paulo:20221006T133000
DTSTAMP:20260420T135020
CREATED:20220929T125102Z
LAST-MODIFIED:20220929T125102Z
UID:15775-1665057600-1665063000@biologia.uc.cl
SUMMARY:El desafío de cultivar carne en el laboratorio...
DESCRIPTION:
URL:https://biologia.uc.cl/calendario/el-desafio-de-cultivar-carne-en-el-laboratorio/
LOCATION:Auditorio Abate Molina\, Auditorio Abate Molina
CATEGORIES:Calendario Portada
ATTACH;FMTTYPE=image/png:https://biologia.uc.cl/wp-content/uploads/2022/09/Afiche-más-alla-de-la-Ciencia-en-ciencias-Biologicas-1.png
END:VEVENT
END:VCALENDAR