BEGIN:VCALENDAR
VERSION:2.0
PRODID:-//Facultad de Ciencias Biológicas - ECPv4.9.13//NONSGML v1.0//EN
CALSCALE:GREGORIAN
METHOD:PUBLISH
X-WR-CALNAME:Facultad de Ciencias Biológicas
X-ORIGINAL-URL:https://biologia.uc.cl
X-WR-CALDESC:Eventos para Facultad de Ciencias Biológicas 
BEGIN:VTIMEZONE
TZID:America/Sao_Paulo
BEGIN:STANDARD
TZOFFSETFROM:-0300
TZOFFSETTO:-0300
TZNAME:-03
DTSTART:20220101T000000
END:STANDARD
END:VTIMEZONE
BEGIN:VEVENT
DTSTART;TZID=America/Sao_Paulo:20220929T193000
DTEND;TZID=America/Sao_Paulo:20220929T203000
DTSTAMP:20260420T074206
CREATED:20220914T151641Z
LAST-MODIFIED:20220920T141133Z
UID:15657-1664479800-1664483400@biologia.uc.cl
SUMMARY:El dolor: ¿amigo o enemigo?
DESCRIPTION:
URL:https://biologia.uc.cl/calendario/el-dolor-amigo-o-enemigo/
LOCATION:Online\, Online
CATEGORIES:Calendario Portada
ATTACH;FMTTYPE=image/jpeg:https://biologia.uc.cl/wp-content/uploads/2022/09/Charla_MargaritaCalvo.jpg
END:VEVENT
END:VCALENDAR