BEGIN:VCALENDAR
VERSION:2.0
PRODID:-//Facultad de Ciencias Biológicas - ECPv4.9.13//NONSGML v1.0//EN
CALSCALE:GREGORIAN
METHOD:PUBLISH
X-WR-CALNAME:Facultad de Ciencias Biológicas
X-ORIGINAL-URL:https://biologia.uc.cl
X-WR-CALDESC:Eventos para Facultad de Ciencias Biológicas 
BEGIN:VTIMEZONE
TZID:America/Sao_Paulo
BEGIN:STANDARD
TZOFFSETFROM:-0300
TZOFFSETTO:-0300
TZNAME:-03
DTSTART:20210101T000000
END:STANDARD
END:VTIMEZONE
BEGIN:VEVENT
DTSTART;TZID=America/Sao_Paulo:20210318T100000
DTEND;TZID=America/Sao_Paulo:20210923T113000
DTSTAMP:20260425T174700
CREATED:20210316T152709Z
LAST-MODIFIED:20210316T152832Z
UID:9522-1616061600-1632396600@biologia.uc.cl
SUMMARY:EMBO WEBINAR SERIES: Soft Skills Training For Young Scientists in Chile
DESCRIPTION:
URL:https://biologia.uc.cl/calendario/embo-webinar-series-soft-skills-training-for-young-scientists-in-chile/
LOCATION:Online\, Online
CATEGORIES:Calendario Portada
ATTACH;FMTTYPE=image/jpeg:https://biologia.uc.cl/wp-content/uploads/2021/03/destacado-home-sbbmch-1.jpg
END:VEVENT
END:VCALENDAR