BEGIN:VCALENDAR
VERSION:2.0
PRODID:-//Facultad de Ciencias Biológicas - ECPv4.9.13//NONSGML v1.0//EN
CALSCALE:GREGORIAN
METHOD:PUBLISH
X-WR-CALNAME:Facultad de Ciencias Biológicas
X-ORIGINAL-URL:https://biologia.uc.cl
X-WR-CALDESC:Eventos para Facultad de Ciencias Biológicas 
BEGIN:VTIMEZONE
TZID:America/Sao_Paulo
BEGIN:STANDARD
TZOFFSETFROM:-0300
TZOFFSETTO:-0300
TZNAME:-03
DTSTART:20210101T000000
END:STANDARD
END:VTIMEZONE
BEGIN:VEVENT
DTSTART;TZID=America/Sao_Paulo:20211201T130000
DTEND;TZID=America/Sao_Paulo:20211202T143000
DTSTAMP:20260421T001358
CREATED:20211119T164512Z
LAST-MODIFIED:20211119T164512Z
UID:12779-1638363600-1638455400@biologia.uc.cl
SUMMARY:Feria de Emprendedores FCB
DESCRIPTION:
URL:https://biologia.uc.cl/calendario/feria-de-emprendedores-fcb/
LOCATION:Patio de Ciencias Biológicas\, Patio de Ciencias Biológicas
CATEGORIES:Calendario Portada
ATTACH;FMTTYPE=image/jpeg:https://biologia.uc.cl/wp-content/uploads/2021/11/Mesa-de-trabajo-1@150x-100-2.jpg
END:VEVENT
END:VCALENDAR