BEGIN:VCALENDAR
VERSION:2.0
PRODID:-//Facultad de Ciencias Biológicas - ECPv4.9.13//NONSGML v1.0//EN
CALSCALE:GREGORIAN
METHOD:PUBLISH
X-WR-CALNAME:Facultad de Ciencias Biológicas
X-ORIGINAL-URL:https://biologia.uc.cl
X-WR-CALDESC:Eventos para Facultad de Ciencias Biológicas 
BEGIN:VTIMEZONE
TZID:America/Sao_Paulo
BEGIN:STANDARD
TZOFFSETFROM:-0300
TZOFFSETTO:-0300
TZNAME:-03
DTSTART:20210101T000000
END:STANDARD
END:VTIMEZONE
BEGIN:VEVENT
DTSTART;TZID=America/Sao_Paulo:20211117T170000
DTEND;TZID=America/Sao_Paulo:20211117T190000
DTSTAMP:20260421T045534
CREATED:20211117T152315Z
LAST-MODIFIED:20211117T152553Z
UID:12732-1637168400-1637175600@biologia.uc.cl
SUMMARY:La FCB y Rostros UC solidarizan con nuestro entorno
DESCRIPTION:
URL:https://biologia.uc.cl/calendario/la-fcb-y-rostros-uc-solidarizan-con-nuestro-entorno/
LOCATION:Hall de Portugal con Marcoleta\, Hall de Portugal con Marcoleta
CATEGORIES:Calendario Portada
ATTACH;FMTTYPE=image/jpeg:https://biologia.uc.cl/wp-content/uploads/2021/11/Mesa-de-trabajo-1@150x-100.jpg
END:VEVENT
END:VCALENDAR