BEGIN:VCALENDAR
VERSION:2.0
PRODID:-//Facultad de Ciencias Biológicas - ECPv4.9.13//NONSGML v1.0//EN
CALSCALE:GREGORIAN
METHOD:PUBLISH
X-WR-CALNAME:Facultad de Ciencias Biológicas
X-ORIGINAL-URL:https://biologia.uc.cl
X-WR-CALDESC:Eventos para Facultad de Ciencias Biológicas 
BEGIN:VTIMEZONE
TZID:America/Sao_Paulo
BEGIN:STANDARD
TZOFFSETFROM:-0300
TZOFFSETTO:-0300
TZNAME:-03
DTSTART:20220101T000000
END:STANDARD
END:VTIMEZONE
BEGIN:VEVENT
DTSTART;TZID=America/Sao_Paulo:20220809T083000
DTEND;TZID=America/Sao_Paulo:20220809T100000
DTSTAMP:20260420T023633
CREATED:20220721T170853Z
LAST-MODIFIED:20220721T170853Z
UID:15170-1660033800-1660039200@biologia.uc.cl
SUMMARY:La Mirada de la UC Frente a la Propuesta de Nueva Constitución
DESCRIPTION:
URL:https://biologia.uc.cl/calendario/la-mirada-de-la-uc-frente-a-la-propuesta-de-nueva-constitucion/
LOCATION:Online\, Online
CATEGORIES:Calendario Portada
ATTACH;FMTTYPE=image/jpeg:https://biologia.uc.cl/wp-content/uploads/2022/07/Posteo-Face_Instagram-Encuentro-Rector-1.jpg
END:VEVENT
END:VCALENDAR