BEGIN:VCALENDAR
VERSION:2.0
PRODID:-//Facultad de Ciencias Biológicas - ECPv4.9.13//NONSGML v1.0//EN
CALSCALE:GREGORIAN
METHOD:PUBLISH
X-WR-CALNAME:Facultad de Ciencias Biológicas
X-ORIGINAL-URL:https://biologia.uc.cl
X-WR-CALDESC:Eventos para Facultad de Ciencias Biológicas 
BEGIN:VTIMEZONE
TZID:America/Sao_Paulo
BEGIN:STANDARD
TZOFFSETFROM:-0300
TZOFFSETTO:-0300
TZNAME:-03
DTSTART:20210101T000000
END:STANDARD
END:VTIMEZONE
BEGIN:VEVENT
DTSTART;TZID=America/Sao_Paulo:20211118T100000
DTEND;TZID=America/Sao_Paulo:20211118T120000
DTSTAMP:20260420T231205
CREATED:20211102T154832Z
LAST-MODIFIED:20211116T141436Z
UID:12512-1637229600-1637236800@biologia.uc.cl
SUMMARY:Laboratorio abierto para estudiantes de cuarto medio
DESCRIPTION:
URL:https://biologia.uc.cl/calendario/laboratorio-abierto-para-estudiantes-de-cuarto-medio/
LOCATION:San Joaquín\, San Joaquín
CATEGORIES:Calendario Portada
ATTACH;FMTTYPE=image/jpeg:https://biologia.uc.cl/wp-content/uploads/2021/11/Mesa-de-trabajo-1@150x-100-1.jpg
END:VEVENT
END:VCALENDAR