BEGIN:VCALENDAR
VERSION:2.0
PRODID:-//Facultad de Ciencias Biológicas - ECPv4.9.13//NONSGML v1.0//EN
CALSCALE:GREGORIAN
METHOD:PUBLISH
X-WR-CALNAME:Facultad de Ciencias Biológicas
X-ORIGINAL-URL:https://biologia.uc.cl
X-WR-CALDESC:Eventos para Facultad de Ciencias Biológicas 
BEGIN:VTIMEZONE
TZID:America/Sao_Paulo
BEGIN:STANDARD
TZOFFSETFROM:-0300
TZOFFSETTO:-0300
TZNAME:-03
DTSTART:20210101T000000
END:STANDARD
END:VTIMEZONE
BEGIN:VEVENT
DTSTART;TZID=America/Sao_Paulo:20210617T170000
DTEND;TZID=America/Sao_Paulo:20210617T180000
DTSTAMP:20260421T142125
CREATED:20210609T213719Z
LAST-MODIFIED:20210609T213719Z
UID:10572-1623949200-1623952800@biologia.uc.cl
SUMMARY:Lineamientos y recomendaciones Planta Académica UC para prevención de hechos de Violencia Sexual
DESCRIPTION:
URL:https://biologia.uc.cl/calendario/lineamientos-y-recomendaciones-planta-academica-uc-para-prevencion-de-hechos-de-violencia-sexual/
LOCATION:Online\, Online
CATEGORIES:Calendario Portada
ATTACH;FMTTYPE=image/jpeg:https://biologia.uc.cl/wp-content/uploads/2021/06/Charlas_Prevencion-scaled.jpg
END:VEVENT
END:VCALENDAR