BEGIN:VCALENDAR
VERSION:2.0
PRODID:-//Facultad de Ciencias Biológicas - ECPv4.9.13//NONSGML v1.0//EN
CALSCALE:GREGORIAN
METHOD:PUBLISH
X-WR-CALNAME:Facultad de Ciencias Biológicas
X-ORIGINAL-URL:https://biologia.uc.cl
X-WR-CALDESC:Eventos para Facultad de Ciencias Biológicas 
BEGIN:VTIMEZONE
TZID:America/Sao_Paulo
BEGIN:STANDARD
TZOFFSETFROM:-0300
TZOFFSETTO:-0300
TZNAME:-03
DTSTART:20220101T000000
END:STANDARD
END:VTIMEZONE
BEGIN:VEVENT
DTSTART;TZID=America/Sao_Paulo:20220323T120000
DTEND;TZID=America/Sao_Paulo:20220323T190000
DTSTAMP:20260421T094700
CREATED:20220323T132028Z
LAST-MODIFIED:20220323T132028Z
UID:14060-1648036800-1648062000@biologia.uc.cl
SUMMARY:Monaco ocean week
DESCRIPTION:
URL:https://biologia.uc.cl/calendario/monaco-ocean-week/
LOCATION:Online\, Online
CATEGORIES:Calendario Portada
ATTACH;FMTTYPE=image/jpeg:https://biologia.uc.cl/wp-content/uploads/2022/03/Captura.jpg
END:VEVENT
END:VCALENDAR