BEGIN:VCALENDAR
VERSION:2.0
PRODID:-//Facultad de Ciencias Biológicas - ECPv4.9.13//NONSGML v1.0//EN
CALSCALE:GREGORIAN
METHOD:PUBLISH
X-WR-CALNAME:Facultad de Ciencias Biológicas
X-ORIGINAL-URL:https://biologia.uc.cl
X-WR-CALDESC:Eventos para Facultad de Ciencias Biológicas 
BEGIN:VTIMEZONE
TZID:America/Sao_Paulo
BEGIN:STANDARD
TZOFFSETFROM:-0300
TZOFFSETTO:-0300
TZNAME:-03
DTSTART:20230101T000000
END:STANDARD
END:VTIMEZONE
BEGIN:VEVENT
DTSTART;TZID=America/Sao_Paulo:20230123T143000
DTEND;TZID=America/Sao_Paulo:20230123T160000
DTSTAMP:20260419T153515
CREATED:20230123T133531Z
LAST-MODIFIED:20230123T133531Z
UID:16897-1674484200-1674489600@biologia.uc.cl
SUMMARY:Multi-omics data integration and network-based analysis in the understading of host-pathogen interactions
DESCRIPTION:
URL:https://biologia.uc.cl/calendario/multi-omics-data-integration-and-network-based-analysis-in-the-understading-of-host-pathogen-interactions-2/
LOCATION:Auditorio B201\, Auditorio B201
CATEGORIES:Calendario Portada
ATTACH;FMTTYPE=image/png:https://biologia.uc.cl/wp-content/uploads/2023/01/image001-2.png
END:VEVENT
END:VCALENDAR