BEGIN:VCALENDAR
VERSION:2.0
PRODID:-//Facultad de Ciencias Biológicas - ECPv4.9.13//NONSGML v1.0//EN
CALSCALE:GREGORIAN
METHOD:PUBLISH
X-WR-CALNAME:Facultad de Ciencias Biológicas
X-ORIGINAL-URL:https://biologia.uc.cl
X-WR-CALDESC:Eventos para Facultad de Ciencias Biológicas 
BEGIN:VTIMEZONE
TZID:America/Sao_Paulo
BEGIN:STANDARD
TZOFFSETFROM:-0300
TZOFFSETTO:-0300
TZNAME:-03
DTSTART:20210101T000000
END:STANDARD
END:VTIMEZONE
BEGIN:VEVENT
DTSTART;TZID=America/Sao_Paulo:20210601T180000
DTEND;TZID=America/Sao_Paulo:20210601T190000
DTSTAMP:20260422T022322
CREATED:20210528T180156Z
LAST-MODIFIED:20210528T180156Z
UID:10483-1622570400-1622574000@biologia.uc.cl
SUMMARY:Naturaleza y Bienestar Humano: ¿vamos de la depredación a la simbiosis?
DESCRIPTION:
URL:https://biologia.uc.cl/calendario/naturaleza-y-bienestar-humano-vamos-de-la-depredacion-a-la-simbiosis/
LOCATION:Online\, Online
CATEGORIES:Calendario Portada
ATTACH;FMTTYPE=image/jpeg:https://biologia.uc.cl/wp-content/uploads/2021/05/Charla_Valeria-scaled.jpg
END:VEVENT
END:VCALENDAR