BEGIN:VCALENDAR
VERSION:2.0
PRODID:-//Facultad de Ciencias Biológicas - ECPv4.9.13//NONSGML v1.0//EN
CALSCALE:GREGORIAN
METHOD:PUBLISH
X-WR-CALNAME:Facultad de Ciencias Biológicas
X-ORIGINAL-URL:https://biologia.uc.cl
X-WR-CALDESC:Eventos para Facultad de Ciencias Biológicas 
BEGIN:VTIMEZONE
TZID:America/Sao_Paulo
BEGIN:STANDARD
TZOFFSETFROM:-0300
TZOFFSETTO:-0300
TZNAME:-03
DTSTART:20220101T000000
END:STANDARD
END:VTIMEZONE
BEGIN:VEVENT
DTSTART;TZID=America/Sao_Paulo:20220124T110000
DTEND;TZID=America/Sao_Paulo:20220124T120000
DTSTAMP:20260420T201124
CREATED:20220106T151949Z
LAST-MODIFIED:20220124T134319Z
UID:13309-1643022000-1643025600@biologia.uc.cl
SUMMARY:[Cancelado - nueva fecha próximamente] Nuevo rol y desafíos del docente universitario
DESCRIPTION:
URL:https://biologia.uc.cl/calendario/nuevo-rol-y-desafios-del-docente-universitario/
LOCATION:Auditorio B201\, Auditorio B201
CATEGORIES:Calendario Portada
ATTACH;FMTTYPE=image/jpeg:https://biologia.uc.cl/wp-content/uploads/2022/01/Mesa-de-trabajo-1@150x-100.jpg
END:VEVENT
END:VCALENDAR