BEGIN:VCALENDAR
VERSION:2.0
PRODID:-//Facultad de Ciencias Biológicas - ECPv4.9.13//NONSGML v1.0//EN
CALSCALE:GREGORIAN
METHOD:PUBLISH
X-WR-CALNAME:Facultad de Ciencias Biológicas
X-ORIGINAL-URL:https://biologia.uc.cl
X-WR-CALDESC:Eventos para Facultad de Ciencias Biológicas 
BEGIN:VTIMEZONE
TZID:America/Sao_Paulo
BEGIN:STANDARD
TZOFFSETFROM:-0300
TZOFFSETTO:-0300
TZNAME:-03
DTSTART:20210101T000000
END:STANDARD
END:VTIMEZONE
BEGIN:VEVENT
DTSTART;VALUE=DATE:20210701
DTEND;VALUE=DATE:20210925
DTSTAMP:20260421T200451
CREATED:20210712T163049Z
LAST-MODIFIED:20210712T163132Z
UID:10975-1625097600-1632527999@biologia.uc.cl
SUMMARY:Doctorado: Proceso de Postulación Admisión 2022
DESCRIPTION:
URL:https://biologia.uc.cl/calendario/proceso-de-postulacion-admision-2022/
LOCATION:Online\, Online
CATEGORIES:Calendario Portada
ATTACH;FMTTYPE=image/jpeg:https://biologia.uc.cl/wp-content/uploads/2021/07/flyer_general_PDCB_facebook_2019.jpg
END:VEVENT
END:VCALENDAR