BEGIN:VCALENDAR
VERSION:2.0
PRODID:-//Facultad de Ciencias Biológicas - ECPv4.9.13//NONSGML v1.0//EN
CALSCALE:GREGORIAN
METHOD:PUBLISH
X-WR-CALNAME:Facultad de Ciencias Biológicas
X-ORIGINAL-URL:https://biologia.uc.cl
X-WR-CALDESC:Eventos para Facultad de Ciencias Biológicas 
BEGIN:VTIMEZONE
TZID:America/Sao_Paulo
BEGIN:STANDARD
TZOFFSETFROM:-0300
TZOFFSETTO:-0300
TZNAME:-03
DTSTART:20220101T000000
END:STANDARD
END:VTIMEZONE
BEGIN:VEVENT
DTSTART;TZID=America/Sao_Paulo:20220412T103000
DTEND;TZID=America/Sao_Paulo:20220412T113000
DTSTAMP:20260421T170810
CREATED:20220405T210333Z
LAST-MODIFIED:20220405T210333Z
UID:14177-1649759400-1649763000@biologia.uc.cl
SUMMARY:Retiro Semana Santa 2022
DESCRIPTION:
URL:https://biologia.uc.cl/calendario/retiro-semana-santa-2022/
LOCATION:Online\, Online
CATEGORIES:Calendario Portada
ATTACH;FMTTYPE=image/png:https://biologia.uc.cl/wp-content/uploads/2022/04/SS-Retiro_mailing-1.png
END:VEVENT
END:VCALENDAR