BEGIN:VCALENDAR
VERSION:2.0
PRODID:-//Facultad de Ciencias Biológicas - ECPv4.9.13//NONSGML v1.0//EN
CALSCALE:GREGORIAN
METHOD:PUBLISH
X-WR-CALNAME:Facultad de Ciencias Biológicas
X-ORIGINAL-URL:https://biologia.uc.cl
X-WR-CALDESC:Eventos para Facultad de Ciencias Biológicas 
BEGIN:VTIMEZONE
TZID:America/Sao_Paulo
BEGIN:STANDARD
TZOFFSETFROM:-0300
TZOFFSETTO:-0300
TZNAME:-03
DTSTART:20220101T000000
END:STANDARD
END:VTIMEZONE
BEGIN:VEVENT
DTSTART;TZID=America/Sao_Paulo:20220511T190000
DTEND;TZID=America/Sao_Paulo:20220511T203000
DTSTAMP:20260421T111650
CREATED:20220506T165833Z
LAST-MODIFIED:20220506T165833Z
UID:14516-1652295600-1652301000@biologia.uc.cl
SUMMARY:Rod et al. The Late Show
DESCRIPTION:
URL:https://biologia.uc.cl/calendario/rod-et-al-the-late-show/
LOCATION:Zócalo\, Zócalo
CATEGORIES:Calendario Portada
ATTACH;FMTTYPE=image/jpeg:https://biologia.uc.cl/wp-content/uploads/2022/05/Thelateshow-scaled.jpg
END:VEVENT
END:VCALENDAR