BEGIN:VCALENDAR
VERSION:2.0
PRODID:-//Facultad de Ciencias Biológicas - ECPv4.9.13//NONSGML v1.0//EN
CALSCALE:GREGORIAN
METHOD:PUBLISH
X-WR-CALNAME:Facultad de Ciencias Biológicas
X-ORIGINAL-URL:https://biologia.uc.cl
X-WR-CALDESC:Eventos para Facultad de Ciencias Biológicas 
BEGIN:VTIMEZONE
TZID:America/Sao_Paulo
BEGIN:STANDARD
TZOFFSETFROM:-0300
TZOFFSETTO:-0300
TZNAME:-03
DTSTART:20210101T000000
END:STANDARD
END:VTIMEZONE
BEGIN:VEVENT
DTSTART;TZID=America/Sao_Paulo:20210806T153000
DTEND;TZID=America/Sao_Paulo:20210806T163000
DTSTAMP:20260420T214632
CREATED:20210728T195753Z
LAST-MODIFIED:20210728T195753Z
UID:11204-1628263800-1628267400@biologia.uc.cl
SUMMARY:Seminario de Facultad Biología espacial de redes genéticas sintéticas: de lo individual a lo colectivo
DESCRIPTION:
URL:https://biologia.uc.cl/calendario/seminario-de-facultad-biologia-espacial-de-redes-geneticas-sinteticas-de-lo-individual-a-lo-colectivo/
LOCATION:Online\, Online
CATEGORIES:Calendario Portada
ATTACH;FMTTYPE=image/png:https://biologia.uc.cl/wp-content/uploads/2021/07/image001.png
END:VEVENT
END:VCALENDAR