BEGIN:VCALENDAR
VERSION:2.0
PRODID:-//Facultad de Ciencias Biológicas - ECPv4.9.13//NONSGML v1.0//EN
CALSCALE:GREGORIAN
METHOD:PUBLISH
X-WR-CALNAME:Facultad de Ciencias Biológicas
X-ORIGINAL-URL:https://biologia.uc.cl
X-WR-CALDESC:Eventos para Facultad de Ciencias Biológicas 
BEGIN:VTIMEZONE
TZID:America/Sao_Paulo
BEGIN:STANDARD
TZOFFSETFROM:-0300
TZOFFSETTO:-0300
TZNAME:-03
DTSTART:20210101T000000
END:STANDARD
END:VTIMEZONE
BEGIN:VEVENT
DTSTART;TZID=America/Sao_Paulo:20211027T093000
DTEND;TZID=America/Sao_Paulo:20211027T093000
DTSTAMP:20260420T151236
CREATED:20211007T134933Z
LAST-MODIFIED:20211007T134933Z
UID:12156-1635327000-1635327000@biologia.uc.cl
SUMMARY:Simposio ¿El milagro de la vida? Desafíos\, incertidumbres y perplejidades en la investigación sobre el origen de la vida
DESCRIPTION:A mediados de la década de 1920 del siglo pasado\, Alexander Oparin y John Haldane propusieron de manera independiente la hipótesis de una ‘sopa primordial’ como la explicación del surgimiento de la vida en la Tierra. Un proceso lento de evolución habría dado origen a los ingredientes moleculares de los organismos vivientes. Estos mismos ingredientes moleculares habrían ido lentamente evolucionando hacia estructuras complejas auto-catalíticas y auto-replicantes que sería la vida tal como la conocemos. Esta perspectiva pareció verse confirmada por los resultados de Stanley Miller y Harold Urey en 1952 al conseguir sintetizar aminoácidos esenciales a partir de condiciones semejantes a las que –se suponía– habría tenido la Tierra primitiva. Se pensaba que estaba ya cercana una explicación puramente científica del surgimiento de la vida por principios naturales semejantes a los que habían sido postulados ya por Darwin para explicar la evolución de las especies. Existe\, sin embargo\, una enorme distancia entre un aminoácido y una célula viva –sin considerar otros organismos más complejos. La promesa de explicación no se ha cumplido en los decenios posteriores. La investigación sobre el origen de la vida ha ido alejándose de la convergencia que parecía tener en esos años. Hoy día hay una variedad de programas de investigación alternativos\, incompatibles entre sí\, con ventajas y desventajas comparativas que hacen difícil determinar cuál sea más promisorio. La irrupción de consideraciones astrobiológicas no han hecho la situación más fácil\, pues las hipótesis de vida en otros planetas dependen de los programas de investigación en competencia que están\, ellos mismos\, sujetos a controversia. En este simposio se hará una presentación global del estado de estas discusiones desde una perspectiva al mismo tiempo científica y filosófica. \nLa actividad es abierta a todo el público previa inscripción acá \n
URL:https://biologia.uc.cl/calendario/simposio-el-milagro-de-la-vida-desafios-incertidumbres-y-perplejidades-en-la-investigacion-sobre-el-origen-de-la-vida/
LOCATION:Online\, Online
CATEGORIES:Calendario Portada
ATTACH;FMTTYPE=image/png:https://biologia.uc.cl/wp-content/uploads/2021/10/20211006_SimposioMilagroVida.png
END:VEVENT
END:VCALENDAR