BEGIN:VCALENDAR
VERSION:2.0
PRODID:-//Facultad de Ciencias Biológicas - ECPv4.9.13//NONSGML v1.0//EN
CALSCALE:GREGORIAN
METHOD:PUBLISH
X-WR-CALNAME:Facultad de Ciencias Biológicas
X-ORIGINAL-URL:https://biologia.uc.cl
X-WR-CALDESC:Eventos para Facultad de Ciencias Biológicas 
BEGIN:VTIMEZONE
TZID:America/Sao_Paulo
BEGIN:STANDARD
TZOFFSETFROM:-0300
TZOFFSETTO:-0300
TZNAME:-03
DTSTART:20220101T000000
END:STANDARD
END:VTIMEZONE
BEGIN:VEVENT
DTSTART;TZID=America/Sao_Paulo:20221114T160000
DTEND;TZID=America/Sao_Paulo:20221114T170000
DTSTAMP:20260420T074500
CREATED:20221109T155111Z
LAST-MODIFIED:20221109T155111Z
UID:16176-1668441600-1668445200@biologia.uc.cl
SUMMARY:Taming plastids for biotechnology and syntethic biology
DESCRIPTION:
URL:https://biologia.uc.cl/calendario/taming-plastids-for-biotechnology-and-syntethic-biology/
LOCATION:Auditorio A201 (Patio de la virgen)\, Auditorio A201 (Patio de la virgen)
CATEGORIES:Calendario Portada
ATTACH;FMTTYPE=image/jpeg:https://biologia.uc.cl/wp-content/uploads/2022/11/seminario.jpg
END:VEVENT
END:VCALENDAR