BEGIN:VCALENDAR
VERSION:2.0
PRODID:-//Facultad de Ciencias Biológicas - ECPv4.9.13//NONSGML v1.0//EN
CALSCALE:GREGORIAN
METHOD:PUBLISH
X-WR-CALNAME:Facultad de Ciencias Biológicas
X-ORIGINAL-URL:https://biologia.uc.cl
X-WR-CALDESC:Eventos para Facultad de Ciencias Biológicas 
BEGIN:VTIMEZONE
TZID:America/Sao_Paulo
BEGIN:STANDARD
TZOFFSETFROM:-0300
TZOFFSETTO:-0300
TZNAME:-03
DTSTART:20230101T000000
END:STANDARD
END:VTIMEZONE
BEGIN:VEVENT
DTSTART;VALUE=DATE:20230630
DTEND;VALUE=DATE:20230704
DTSTAMP:20260422T021348
CREATED:20230620T134919Z
LAST-MODIFIED:20230703T153431Z
UID:18414-1688083200-1688428799@biologia.uc.cl
SUMMARY:Test de diagnóstico y nivelación
DESCRIPTION:
URL:https://biologia.uc.cl/calendario/test-de-diagnostico-y-nivelacion/
LOCATION:online
ATTACH;FMTTYPE=image/png:https://biologia.uc.cl/wp-content/uploads/2023/06/POSTEO-NIVELACIOìN-DE-FIìSICA.png
END:VEVENT
END:VCALENDAR