BEGIN:VCALENDAR
VERSION:2.0
PRODID:-//Facultad de Ciencias Biológicas - ECPv4.9.13//NONSGML v1.0//EN
CALSCALE:GREGORIAN
METHOD:PUBLISH
X-WR-CALNAME:Facultad de Ciencias Biológicas
X-ORIGINAL-URL:https://biologia.uc.cl
X-WR-CALDESC:Eventos para Facultad de Ciencias Biológicas 
BEGIN:VTIMEZONE
TZID:America/Sao_Paulo
BEGIN:STANDARD
TZOFFSETFROM:-0300
TZOFFSETTO:-0300
TZNAME:-03
DTSTART:20220101T000000
END:STANDARD
END:VTIMEZONE
BEGIN:VEVENT
DTSTART;TZID=America/Sao_Paulo:20220503T160000
DTEND;TZID=America/Sao_Paulo:20220503T170000
DTSTAMP:20260421T170813
CREATED:20220425T145516Z
LAST-MODIFIED:20220429T142640Z
UID:14368-1651593600-1651597200@biologia.uc.cl
SUMMARY:Understanding the changing coastal ocean: from physical processes to environmental implications
DESCRIPTION:
URL:https://biologia.uc.cl/calendario/understanding-the-changing-coastal-ocean-from-physical-processes-to-environmental-implications/
LOCATION:Online\, Online
CATEGORIES:Calendario Portada
ATTACH;FMTTYPE=image/jpeg:https://biologia.uc.cl/wp-content/uploads/2022/04/seminario3demayo.jpg
END:VEVENT
END:VCALENDAR