BEGIN:VCALENDAR
VERSION:2.0
PRODID:-//Facultad de Ciencias Biológicas - ECPv4.9.13//NONSGML v1.0//EN
CALSCALE:GREGORIAN
METHOD:PUBLISH
X-WR-CALNAME:Facultad de Ciencias Biológicas
X-ORIGINAL-URL:https://biologia.uc.cl
X-WR-CALDESC:Eventos para Facultad de Ciencias Biológicas 
BEGIN:VTIMEZONE
TZID:America/Sao_Paulo
BEGIN:STANDARD
TZOFFSETFROM:-0300
TZOFFSETTO:-0300
TZNAME:-03
DTSTART:20220101T000000
END:STANDARD
END:VTIMEZONE
BEGIN:VEVENT
DTSTART;TZID=America/Sao_Paulo:20220526T090000
DTEND;TZID=America/Sao_Paulo:20220526T100000
DTSTAMP:20260420T234607
CREATED:20220523T202251Z
LAST-MODIFIED:20220523T202251Z
UID:14694-1653555600-1653559200@biologia.uc.cl
SUMMARY:Uso eficiente del Sistema de Salud
DESCRIPTION:
URL:https://biologia.uc.cl/calendario/uso-eficiente-del-sistema-de-salud/
LOCATION:Online\, Online
CATEGORIES:Calendario Portada
ATTACH;FMTTYPE=image/png:https://biologia.uc.cl/wp-content/uploads/2022/05/charla.png
END:VEVENT
END:VCALENDAR