BEGIN:VCALENDAR
VERSION:2.0
PRODID:-//Facultad de Ciencias Biológicas - ECPv4.9.13//NONSGML v1.0//EN
CALSCALE:GREGORIAN
METHOD:PUBLISH
X-WR-CALNAME:Facultad de Ciencias Biológicas
X-ORIGINAL-URL:https://biologia.uc.cl
X-WR-CALDESC:Eventos para Facultad de Ciencias Biológicas 
BEGIN:VTIMEZONE
TZID:America/Sao_Paulo
BEGIN:STANDARD
TZOFFSETFROM:-0300
TZOFFSETTO:-0300
TZNAME:-03
DTSTART:20210101T000000
END:STANDARD
END:VTIMEZONE
BEGIN:VEVENT
DTSTART;TZID=America/Sao_Paulo:20211217T090000
DTEND;TZID=America/Sao_Paulo:20211217T230000
DTSTAMP:20260420T074205
CREATED:20211215T172525Z
LAST-MODIFIED:20211215T172539Z
UID:13110-1639731600-1639782000@biologia.uc.cl
SUMMARY:Webinar: Pedagogía del Cambio Climático
DESCRIPTION:
URL:https://biologia.uc.cl/calendario/webinar-pedagogia-del-cambio-climatico/
LOCATION:Online\, Online
CATEGORIES:Calendario Portada
ATTACH;FMTTYPE=image/jpeg:https://biologia.uc.cl/wp-content/uploads/2021/12/Webinar-Cambio-Climatico.jpg
END:VEVENT
END:VCALENDAR