BEGIN:VCALENDAR
VERSION:2.0
PRODID:-//Facultad de Ciencias Biológicas - ECPv4.9.13//NONSGML v1.0//EN
CALSCALE:GREGORIAN
METHOD:PUBLISH
X-WR-CALNAME:Facultad de Ciencias Biológicas
X-ORIGINAL-URL:https://biologia.uc.cl
X-WR-CALDESC:Eventos para Facultad de Ciencias Biológicas 
BEGIN:VTIMEZONE
TZID:America/Sao_Paulo
BEGIN:STANDARD
TZOFFSETFROM:-0300
TZOFFSETTO:-0300
TZNAME:-03
DTSTART:20220101T000000
END:STANDARD
END:VTIMEZONE
BEGIN:VEVENT
DTSTART;VALUE=DATE:20221205
DTEND;VALUE=DATE:20221210
DTSTAMP:20260420T005924
CREATED:20220803T154644Z
LAST-MODIFIED:20220803T154705Z
UID:15386-1670198400-1670630399@biologia.uc.cl
SUMMARY:XLIII Congreso anual de la sociedad de farmacología de Chile
DESCRIPTION:
URL:https://biologia.uc.cl/calendario/xliii-congreso-anual-de-la-sociedad-de-farmacologia-de-chile/
ATTACH;FMTTYPE=image/png:https://biologia.uc.cl/wp-content/uploads/2022/08/AficheCongresoXLIII-Click-6-1.png
END:VEVENT
END:VCALENDAR